Workbook

Sheet Sheet1
B1: CredNex 取扱MM申請書
B2: （テスト環境）
A6: 1. 申請者
A7: 申込日
A8: 組織区分 | C8: AP委託：指定参加者（委託）
A9: 会社コード | D9: *5桁
A10: ＊AP：取引参加者コード
A11: 会社名 | F11: ※”株式会社”は記載不要
A12: 会社名（英語） | F12: ※任意
A13: 申請者氏名
A14: 電話番号
A16: 2.同意事項
A17: 申込みを行うために、以下の事項に同意してください。
B19: 「個人情報の取扱い」に同意する
B20: * 記入いただいた個人情報は、CredNexに係る各種ご連絡等、運営業務のために利用し、他の目的のために利用しません。
B21: * 日本取引所グループの個人情報の取扱いについては、下記のウェブサイトをご参照ください。
B22: https://www.jpx.co.jp/corporate/governance/security/personal-information/ | AN22: FALSE
A24: 3.追加または削除するマーケットメイカー
A26: # | B26: 区分 | C26: 適用希望日 | D26: マーケットメイカー名
A27: 1
A28: 2
A29: 3
A30: 4
A31: 5
A32: 6
A33: 7
A34: 8
A35: 9
A36: 10
A37: 11
A38: 12
... A41: 15

Sheet List of MMs
A1: CITADEL SECURITIES (ASIA) II PTE. LIMITED
A2: Susquehanna Pacific Pty Ltd
A3: Virtu Financial Singapore Pte. Ltd.
A4: Optiver Australia Pty Limited
A5: Vivienne Court Trading Pty Ltd
A6: ダルマ・キャピタル株式会社
A7: Jane Street Asia Trading Limited
A8: DRW Singapore Pte. Ltd.
A9: Fenix One Asia Pte. Ltd.
A10: Flow Traders B.V.
A11: SG SECURITIES (HK) LIMITED
A12: Volant Trading Asia Limited
... A53: TSY Capital Limited

Sheet メンテ台帳
A1: 更新フラグ | B1: ステータス | C1: # | D1: 環境 | E1: 申込日 | F1: 組織区分 | G1: 会社コード（５桁） | H1: 会社名称 | I1: 自己委託区分 | J1: 適用希望日 | K1: マーケットメイカー名
A2: =IF(K2="","",Sheet1!B27) | B2: 未反映 | D2: テスト | E2: =IF(K2="","",Sheet1!$C$7) | F2: =IF(K2="","","AP：指定参加者") | G2: =IF(K2="","",Sheet1!$C$9) | H2: =IF(K2="","",Sheet1!$C$11) | I2: {=_xlfn.IFS(Sheet1!$C$8="AP自己：指定参加者（自己）","自己",Sheet1!$C$8="AP委託：指定参加者（委託）","委託",Sheet1!$C$8="","")} -> 委託 | J2: =IF(K2="","",Sheet1!C27) | K2: =IF(Sheet1!D27="","",Sheet1!D27)
A3: =IF(K3="","",Sheet1!B28) | B3: 未反映 | D3: テスト | E3: =IF(K3="","",Sheet1!$C$7) | F3: =IF(K3="","","AP：指定参加者") | G3: =IF(K3="","",Sheet1!$C$9) | H3: =IF(K3="","",Sheet1!$C$11) | I3: {=_xlfn.IFS(Sheet1!$C$8="AP自己：指定参加者（自己）","自己",Sheet1!$C$8="AP委託：指定参加者（委託）","委託",Sheet1!$C$8="","")} -> 委託 | J3: =IF(K3="","",Sheet1!C28) | K3: =IF(Sheet1!D28="","",Sheet1!D28)
A4: =IF(K4="","",Sheet1!B29) | B4: 未反映 | D4: テスト | E4: =IF(K4="","",Sheet1!$C$7) | F4: =IF(K4="","","AP：指定参加者") | G4: =IF(K4="","",Sheet1!$C$9) | H4: =IF(K4="","",Sheet1!$C$11) | I4: {=_xlfn.IFS(Sheet1!$C$8="AP自己：指定参加者（自己）","自己",Sheet1!$C$8="AP委託：指定参加者（委託）","委託",Sheet1!$C$8="","")} -> 委託 | J4: =IF(K4="","",Sheet1!C29) | K4: =IF(Sheet1!D29="","",Sheet1!D29)
A5: =IF(K5="","",Sheet1!B30) | B5: 未反映 | D5: テスト | E5: =IF(K5="","",Sheet1!$C$7) | F5: =IF(K5="","","AP：指定参加者") | G5: =IF(K5="","",Sheet1!$C$9) | H5: =IF(K5="","",Sheet1!$C$11) | I5: {=_xlfn.IFS(Sheet1!$C$8="AP自己：指定参加者（自己）","自己",Sheet1!$C$8="AP委託：指定参加者（委託）","委託",Sheet1!$C$8="","")} -> 委託 | J5: =IF(K5="","",Sheet1!C30) | K5: =IF(Sheet1!D30="","",Sheet1!D30)
A6: =IF(K6="","",Sheet1!B31) | B6: 未反映 | D6: テスト | E6: =IF(K6="","",Sheet1!$C$7) | F6: =IF(K6="","","AP：指定参加者") | G6: =IF(K6="","",Sheet1!$C$9) | H6: =IF(K6="","",Sheet1!$C$11) | I6: {=_xlfn.IFS(Sheet1!$C$8="AP自己：指定参加者（自己）","自己",Sheet1!$C$8="AP委託：指定参加者（委託）","委託",Sheet1!$C$8="","")} -> 委託 | J6: =IF(K6="","",Sheet1!C31) | K6: =IF(Sheet1!D31="","",Sheet1!D31)
A7: =IF(K7="","",Sheet1!B32) | B7: 未反映 | D7: テスト | E7: =IF(K7="","",Sheet1!$C$7) | F7: =IF(K7="","","AP：指定参加者") | G7: =IF(K7="","",Sheet1!$C$9) | H7: =IF(K7="","",Sheet1!$C$11) | I7: {=_xlfn.IFS(Sheet1!$C$8="AP自己：指定参加者（自己）","自己",Sheet1!$C$8="AP委託：指定参加者（委託）","委託",Sheet1!$C$8="","")} -> 委託 | J7: =IF(K7="","",Sheet1!C32) | K7: =IF(Sheet1!D32="","",Sheet1!D32)
A8: =IF(K8="","",Sheet1!B33) | B8: 未反映 | D8: テスト | E8: =IF(K8="","",Sheet1!$C$7) | F8: =IF(K8="","","AP：指定参加者") | G8: =IF(K8="","",Sheet1!$C$9) | H8: =IF(K8="","",Sheet1!$C$11) | I8: {=_xlfn.IFS(Sheet1!$C$8="AP自己：指定参加者（自己）","自己",Sheet1!$C$8="AP委託：指定参加者（委託）","委託",Sheet1!$C$8="","")} -> 委託 | J8: =IF(K8="","",Sheet1!C33) | K8: =IF(Sheet1!D33="","",Sheet1!D33)
A9: =IF(K9="","",Sheet1!B34) | B9: 未反映 | D9: テスト | E9: =IF(K9="","",Sheet1!$C$7) | F9: =IF(K9="","","AP：指定参加者") | G9: =IF(K9="","",Sheet1!$C$9) | H9: =IF(K9="","",Sheet1!$C$11) | I9: {=_xlfn.IFS(Sheet1!$C$8="AP自己：指定参加者（自己）","自己",Sheet1!$C$8="AP委託：指定参加者（委託）","委託",Sheet1!$C$8="","")} -> 委託 | J9: =IF(K9="","",Sheet1!C34) | K9: =IF(Sheet1!D34="","",Sheet1!D34)
A10: =IF(K10="","",Sheet1!B35) | B10: 未反映 | D10: テスト | E10: =IF(K10="","",Sheet1!$C$7) | F10: =IF(K10="","","AP：指定参加者") | G10: =IF(K10="","",Sheet1!$C$9) | H10: =IF(K10="","",Sheet1!$C$11) | I10: {=_xlfn.IFS(Sheet1!$C$8="AP自己：指定参加者（自己）","自己",Sheet1!$C$8="AP委託：指定参加者（委託）","委託",Sheet1!$C$8="","")} -> 委託 | J10: =IF(K10="","",Sheet1!C35) | K10: =IF(Sheet1!D35="","",Sheet1!D35)
A11: =IF(K11="","",Sheet1!B36) | B11: 未反映 | D11: テスト | E11: =IF(K11="","",Sheet1!$C$7) | F11: =IF(K11="","","AP：指定参加者") | G11: =IF(K11="","",Sheet1!$C$9) | H11: =IF(K11="","",Sheet1!$C$11) | I11: {=_xlfn.IFS(Sheet1!$C$8="AP自己：指定参加者（自己）","自己",Sheet1!$C$8="AP委託：指定参加者（委託）","委託",Sheet1!$C$8="","")} -> 委託 | J11: =IF(K11="","",Sheet1!C36) | K11: =IF(Sheet1!D36="","",Sheet1!D36)
A12: =IF(K12="","",Sheet1!B37) | B12: 未反映 | D12: テスト | E12: =IF(K12="","",Sheet1!$C$7) | F12: =IF(K12="","","AP：指定参加者") | G12: =IF(K12="","",Sheet1!$C$9) | H12: =IF(K12="","",Sheet1!$C$11) | I12: {=_xlfn.IFS(Sheet1!$C$8="AP自己：指定参加者（自己）","自己",Sheet1!$C$8="AP委託：指定参加者（委託）","委託",Sheet1!$C$8="","")} -> 委託 | J12: =IF(K12="","",Sheet1!C37) | K12: =IF(Sheet1!D37="","",Sheet1!D37)
A13: =IF(K13="","",Sheet1!B38) | B13: 未反映 | D13: テスト | E13: =IF(K13="","",Sheet1!$C$7) | F13: =IF(K13="","","AP：指定参加者") | G13: =IF(K13="","",Sheet1!$C$9) | H13: =IF(K13="","",Sheet1!$C$11) | I13: {=_xlfn.IFS(Sheet1!$C$8="AP自己：指定参加者（自己）","自己",Sheet1!$C$8="AP委託：指定参加者（委託）","委託",Sheet1!$C$8="","")} -> 委託 | J13: =IF(K13="","",Sheet1!C38) | K13: =IF(Sheet1!D38="","",Sheet1!D38)
... A16: =IF(K16="","",Sheet1!B41) | B16: 未反映 | D16: テスト | E16: =IF(K16="","",Sheet1!$C$7) | F16: =IF(K16="","","AP：指定参加者") | G16: =IF(K16="","",Sheet1!$C$9) | H16: =IF(K16="","",Sheet1!$C$11) | I16: {=_xlfn.IFS(Sheet1!$C$8="AP自己：指定参加者（自己）","自己",Sheet1!$C$8="AP委託：指定参加者（委託）","委託",Sheet1!$C$8="","")} -> 委託 | J16: =IF(K16="","",Sheet1!C41) | K16: =IF(Sheet1!D41="","",Sheet1!D41)
