Workbook

Sheet Sheet1
B1: CredNex Application Form
B2: for market makers registration for prod​ environment
A6: 1. Applicant
A7: Date
A8: Organizational Type | C8: AP(Agency): Authorized Participants(Agency)
A9: Company code | D9: *5 digits
A10: *AP: Trading Participant Code
A12: Company Name
A13: Name
A14: Tel
A16: 2. Agreement
A17: In order to apply, please agree to the following
B19: Agree to the “Handling of Personal Information” and “CredNex Terms of Use"
B20: *The personal information you provide will be used for administrative purposes,
B21: such as contacting you regarding CredNex, and will not be used for any other purpose.
B22: *Please refer to the following website for information on the handling of personal information by the Japan Exchange Group. | AN22: FALSE
B23: https://www.jpx.co.jp/english/corporate/governance/security/privacy-policy/index.html | AN23: FALSE
A24: 3. Add or delete handled market makers
A26: # | B26: Type | C26: Effective Date | D26: Name of Market Maker
A27: 1
A28: 2
A29: 3
A30: 4
A31: 5
A32: 6
A33: 7
A34: 8 | AN34: FALSE
A35: 9
A36: 10
A37: 11
A38: 12
A39: 13
A40: 14
A41: 15

Sheet List of MMs
A1: CITADEL SECURITIES (ASIA) II PTE. LIMITED
A2: Susquehanna Pacific Pty Ltd
A3: Virtu Financial Singapore Pte. Ltd.
A4: Optiver Australia Pty Limited
A5: Vivienne Court Trading Pty Ltd
A6: ダルマ・キャピタル株式会社
A7: Jane Street Asia Trading Limited
A8: DRW Singapore Pte. Ltd.
A9: Fenix One Asia Pte. Ltd.
A10: Flow Traders B.V.
A11: SG SECURITIES (HK) LIMITED
A12: Volant Trading Asia Limited
... A53: TSY Capital Limited

Sheet メンテ台帳
A1: 更新フラグ | B1: ステータス | C1: ＃ | D1: 環境 | E1: 申込日 | F1: 組織区分 | G1: 会社コード（５桁） | H1: 会社名称 | I1: 自己委託区分 | J1: 適用希望日 | K1: マーケットメイカー名
A2: =IF(K2="","",Sheet1!B27) | B2: 未反映 | D2: 本番 | E2: =IF(K2="","",Sheet1!$C$7) | F2: =IF(K2="","","AP：指定参加者") | G2: =IF(K2="","",Sheet1!$C$9) | H2: =IF(K2="","",Sheet1!$C$12) | I2: {=_xlfn.IFS(K2="","",Sheet1!$C$8="AP(Prop): Authorized Participants(Prop)","自己",Sheet1!$C$8="AP(Agency): Authorized Participants(Agency)","委託")} | J2: =IF(K2="","",Sheet1!C27) | K2: =IF(Sheet1!D27="","",Sheet1!D27)
A3: =IF(K3="","",Sheet1!B28) | B3: 未反映 | D3: 本番 | E3: =IF(K3="","",Sheet1!$C$7) | F3: =IF(K3="","","AP：指定参加者") | G3: =IF(K3="","",Sheet1!$C$9) | H3: =IF(K3="","",Sheet1!$C$12) | I3: {=_xlfn.IFS(K3="","",Sheet1!$C$8="AP(Prop): Authorized Participants(Prop)","自己",Sheet1!$C$8="AP(Agency): Authorized Participants(Agency)","委託")} | J3: =IF(K3="","",Sheet1!C28) | K3: =IF(Sheet1!D28="","",Sheet1!D28)
A4: =IF(K4="","",Sheet1!B29) | B4: 未反映 | D4: 本番 | E4: =IF(K4="","",Sheet1!$C$7) | F4: =IF(K4="","","AP：指定参加者") | G4: =IF(K4="","",Sheet1!$C$9) | H4: =IF(K4="","",Sheet1!$C$12) | I4: {=_xlfn.IFS(K4="","",Sheet1!$C$8="AP(Prop): Authorized Participants(Prop)","自己",Sheet1!$C$8="AP(Agency): Authorized Participants(Agency)","委託")} | J4: =IF(K4="","",Sheet1!C29) | K4: =IF(Sheet1!D29="","",Sheet1!D29)
A5: =IF(K5="","",Sheet1!B30) | B5: 未反映 | D5: 本番 | E5: =IF(K5="","",Sheet1!$C$7) | F5: =IF(K5="","","AP：指定参加者") | G5: =IF(K5="","",Sheet1!$C$9) | H5: =IF(K5="","",Sheet1!$C$12) | I5: {=_xlfn.IFS(K5="","",Sheet1!$C$8="AP(Prop): Authorized Participants(Prop)","自己",Sheet1!$C$8="AP(Agency): Authorized Participants(Agency)","委託")} | J5: =IF(K5="","",Sheet1!C30) | K5: =IF(Sheet1!D30="","",Sheet1!D30)
A6: =IF(K6="","",Sheet1!B31) | B6: 未反映 | D6: 本番 | E6: =IF(K6="","",Sheet1!$C$7) | F6: =IF(K6="","","AP：指定参加者") | G6: =IF(K6="","",Sheet1!$C$9) | H6: =IF(K6="","",Sheet1!$C$12) | I6: {=_xlfn.IFS(K6="","",Sheet1!$C$8="AP(Prop): Authorized Participants(Prop)","自己",Sheet1!$C$8="AP(Agency): Authorized Participants(Agency)","委託")} | J6: =IF(K6="","",Sheet1!C31) | K6: =IF(Sheet1!D31="","",Sheet1!D31)
A7: =IF(K7="","",Sheet1!B32) | B7: 未反映 | D7: 本番 | E7: =IF(K7="","",Sheet1!$C$7) | F7: =IF(K7="","","AP：指定参加者") | G7: =IF(K7="","",Sheet1!$C$9) | H7: =IF(K7="","",Sheet1!$C$12) | I7: {=_xlfn.IFS(K7="","",Sheet1!$C$8="AP(Prop): Authorized Participants(Prop)","自己",Sheet1!$C$8="AP(Agency): Authorized Participants(Agency)","委託")} | J7: =IF(K7="","",Sheet1!C32) | K7: =IF(Sheet1!D32="","",Sheet1!D32)
A8: =IF(K8="","",Sheet1!B33) | B8: 未反映 | D8: 本番 | E8: =IF(K8="","",Sheet1!$C$7) | F8: =IF(K8="","","AP：指定参加者") | G8: =IF(K8="","",Sheet1!$C$9) | H8: =IF(K8="","",Sheet1!$C$12) | I8: {=_xlfn.IFS(K8="","",Sheet1!$C$8="AP(Prop): Authorized Participants(Prop)","自己",Sheet1!$C$8="AP(Agency): Authorized Participants(Agency)","委託")} | J8: =IF(K8="","",Sheet1!C33) | K8: =IF(Sheet1!D33="","",Sheet1!D33)
A9: =IF(K9="","",Sheet1!B34) | B9: 未反映 | D9: 本番 | E9: =IF(K9="","",Sheet1!$C$7) | F9: =IF(K9="","","AP：指定参加者") | G9: =IF(K9="","",Sheet1!$C$9) | H9: =IF(K9="","",Sheet1!$C$12) | I9: {=_xlfn.IFS(K9="","",Sheet1!$C$8="AP(Prop): Authorized Participants(Prop)","自己",Sheet1!$C$8="AP(Agency): Authorized Participants(Agency)","委託")} | J9: =IF(K9="","",Sheet1!C34) | K9: =IF(Sheet1!D34="","",Sheet1!D34)
A10: =IF(K10="","",Sheet1!B35) | B10: 未反映 | D10: 本番 | E10: =IF(K10="","",Sheet1!$C$7) | F10: =IF(K10="","","AP：指定参加者") | G10: =IF(K10="","",Sheet1!$C$9) | H10: =IF(K10="","",Sheet1!$C$12) | I10: {=_xlfn.IFS(K10="","",Sheet1!$C$8="AP(Prop): Authorized Participants(Prop)","自己",Sheet1!$C$8="AP(Agency): Authorized Participants(Agency)","委託")} | J10: =IF(K10="","",Sheet1!C35) | K10: =IF(Sheet1!D35="","",Sheet1!D35)
A11: =IF(K11="","",Sheet1!B36) | B11: 未反映 | D11: 本番 | E11: =IF(K11="","",Sheet1!$C$7) | F11: =IF(K11="","","AP：指定参加者") | G11: =IF(K11="","",Sheet1!$C$9) | H11: =IF(K11="","",Sheet1!$C$12) | I11: {=_xlfn.IFS(K11="","",Sheet1!$C$8="AP(Prop): Authorized Participants(Prop)","自己",Sheet1!$C$8="AP(Agency): Authorized Participants(Agency)","委託")} | J11: =IF(K11="","",Sheet1!C36) | K11: =IF(Sheet1!D36="","",Sheet1!D36)
A12: =IF(K12="","",Sheet1!B37) | B12: 未反映 | D12: 本番 | E12: =IF(K12="","",Sheet1!$C$7) | F12: =IF(K12="","","AP：指定参加者") | G12: =IF(K12="","",Sheet1!$C$9) | H12: =IF(K12="","",Sheet1!$C$12) | I12: {=_xlfn.IFS(K12="","",Sheet1!$C$8="AP(Prop): Authorized Participants(Prop)","自己",Sheet1!$C$8="AP(Agency): Authorized Participants(Agency)","委託")} | J12: =IF(K12="","",Sheet1!C37) | K12: =IF(Sheet1!D37="","",Sheet1!D37)
A13: =IF(K13="","",Sheet1!B38) | B13: 未反映 | D13: 本番 | E13: =IF(K13="","",Sheet1!$C$7) | F13: =IF(K13="","","AP：指定参加者") | G13: =IF(K13="","",Sheet1!$C$9) | H13: =IF(K13="","",Sheet1!$C$12) | I13: {=_xlfn.IFS(K13="","",Sheet1!$C$8="AP(Prop): Authorized Participants(Prop)","自己",Sheet1!$C$8="AP(Agency): Authorized Participants(Agency)","委託")} | J13: =IF(K13="","",Sheet1!C38) | K13: =IF(Sheet1!D38="","",Sheet1!D38)
... A21: =IF(K21="","",Sheet1!B46) | B21: 未反映 | D21: 本番 | E21: =IF(K21="","",Sheet1!$C$7) | F21: =IF(K21="","","AP：指定参加者") | G21: =IF(K21="","",Sheet1!$C$9) | H21: =IF(K21="","",Sheet1!$C$12) | I21: {=_xlfn.IFS(K21="","",Sheet1!$C$8="AP(Prop): Authorized Participants(Prop)","自己",Sheet1!$C$8="AP(Agency): Authorized Participants(Agency)","委託")} | J21: =IF(K21="","",Sheet1!C46) | K21: =IF(Sheet1!D46="","",Sheet1!D46)
